BEGIN:VCALENDAR
PRODID:-//AT Content Types//AT Event//EN
VERSION:2.0
METHOD:PUBLISH
BEGIN:VEVENT
DTSTAMP:20260420T120000Z
CREATED:20260420T120000Z
UID:114efe44-90b5-48ed-b8c8-fdda19c369a2
LAST-MODIFIED:20260420T120000Z
SUMMARY:Canile Drammatico 2026
DTSTART:20260514T045200Z
DTEND:20260517T045200Z
DESCRIPTION:Dal 14 al 17 maggio, quattro giorni di spettacoli, performance, musica, talk, laboratori presso il Teatro Europa.
LOCATION:-  , \n
CATEGORIES:Multiple events
CLASS:PUBLIC
END:VEVENT
END:VCALENDAR